{"text_format":"3","workbook":"xlsx","n_sheets":8,"sheets":["Leg 1","Leg 2","Leg 3","Leg 4","Leg 5","Fastest times","Final Results","times"],"not_rendered":{"macros":1},"read":"whole","date_system":"1900"}

{"sheet":"Leg 1","index":0,"n_rows":17,"n_cols":5,"rows_kept":17}
["Derek Hebbes Memorial Ealing Schools Relay 2015"]
["Wednesday 18th March 2015 at 2.30pm - Perivale Park"]
["GIRLS"]
["Leg 1:",null,"Results for Leg 1"]
[]
["Po.","No.","Name","Team","Time"]
[]
[1,{"$f":"\"10\" & times!A43","v":"104"},"Vikki Newton","Notting Hill Team A",{"$f":"times!H43","v":"00:06:02"}]
[2,{"$f":"\"10\" & times!A40","v":"101"},"Rhiannon Stewart","Elthorne Park Team A",{"$f":"times!H40","v":"00:06:08"}]
[3,{"$f":"\"10\" & times!A47","v":"107"},"Jodie Todd","Drayton Team A",{"$f":"times!H47","v":"00:06:41"}]
[4,{"$f":"\"10\" & times!A44","v":"105"},"Ella Pilkington","Notting Hill Team B",{"$f":"times!H44","v":"00:06:46"}]
[5,{"$f":"\"10\" & times!A48","v":"108"},"Eman Kassem","Drayton Team B",{"$f":"times!H48","v":"00:06:55"}]
[6,{"$f":"\"10\" & times!A41","v":"102"},"Mia Dillon","Elthorne Park Team B",{"$f":"times!H41","v":"00:06:57"}]
[7,{"$f":"\"10\" & times!A45","v":"106"},"Christina Cope","Notting Hill Team C",{"$f":"times!H45","v":"00:06:58"}]
[8,{"$f":"\"10\" & times!A49","v":"109"},"Eloise Turnball","Twyford Team A",{"$f":"times!H49","v":"00:07:53"}]
[9,{"$f":"\"1\" & times!A50","v":"110"},"Cara Mullins-Abudu","Twyford Team B",{"$f":"times!H50","v":"00:07:54"}]
[10,{"$f":"\"10\" & times!A42","v":"103"},"Izzy Stonebridge","Ellen Wilkinson Team A","DNF"]

{"sheet":"Leg 2","index":1,"n_rows":19,"n_cols":6,"rows_kept":19}
["Derek Hebbes Memorial Ealing Schools Relay 2015"]
["Wednesday 18th March 2015 at 2.30pm - Perivale Park"]
["GIRLS"]
["Leg 2:",null,"Results for Leg 2"]
[]
["Po.","No.","Name","Team","Time"]
[]
[1,{"$f":"\"20\" & times!A42","v":"203"},"Feia Starkey","Ellen Wilkinson Team A",{"$f":"times!I42","v":"00:05:50"}]
[2,{"$f":"\"20\" & times!A43","v":"204"},"Anna Mackenzie","Notting Hill Team A",{"$f":"times!I43","v":"00:06:12"}]
[3,{"$f":"\"20\" & times!A45","v":"206"},"Rosie Cox","Notting Hill Team C",{"$f":"times!I45","v":"00:06:26"}]
[4,{"$f":"\"20\" & times!A44","v":"205"},"Alex Michelmore","Notting Hill Team B",{"$f":"times!I44","v":"00:06:31"}]
[5,{"$f":"\"20\" & times!A47","v":"207"},"Alex McKidd","Drayton Team A",{"$f":"times!I47","v":"00:06:33"}]
[6,{"$f":"\"20\" & times!A49","v":"209"},"Scarlet Bulatovic","Twyford Team A",{"$f":"times!I49","v":"00:06:36"}]
[7,{"$f":"\"20\" & times!A40","v":"201"},"Nadia Abdi-Essa","Elthorne Park Team A",{"$f":"times!I40","v":"00:06:38"}]
[8,{"$f":"\"2\" & times!A50","v":"210"},"Sarah Bell","Twyford Team B",{"$f":"times!I50","v":"00:06:42"}]
[9,{"$f":"\"30\" & times!A45","v":"306"},"Grace Fee","Notting Hill Team C",{"$f":"times!J45","v":"00:06:49"},"ran in Leg 3"]
[10,{"$f":"\"20\" & times!A41","v":"202"},"Katie Fitzgerald","Elthorne Park Team B",{"$f":"times!I41","v":"00:07:16"}]
[11,{"$f":"\"20\" & times!A48","v":"208"},"Sinam McLaren","Drayton Team B",{"$f":"times!I48","v":"00:08:43"}]
[12,{"$f":"\"\" & times!A46","v":"55"},"Jenny Read","Notting Hill Team D",{"$f":"times!H46","v":"00:12:56"},"ran in Leg 1"]

{"sheet":"Leg 3","index":2,"n_rows":17,"n_cols":6,"rows_kept":17}
["Derek Hebbes Memorial Ealing Schools Relay 2015"]
["Wednesday 18th March 2015 at 2.30pm - Perivale Park"]
["GIRLS"]
["Leg 3:",null,"Results for Leg 3"]
[]
["Po.","No.","Name","Team","Time"]
[]
[1,{"$f":"\"30\" & times!A43","v":"304"},"Cameron Thomas","Notting Hill Team A",{"$f":"times!J43","v":"00:05:52"}]
[2,{"$f":"\"30\" & times!A44","v":"305"},"Imogen Riley","Notting Hill Team B",{"$f":"times!J44","v":"00:06:09"}]
[3,{"$f":"\"30\" & times!A42","v":"303"},"Maryam Hussain","Ellen Wilkinson Team A",{"$f":"times!J42","v":"00:06:10"}]
[4,{"$f":"\"3\" & times!A50","v":"310"},"Leah Kelly","Twyford Team B",{"$f":"times!J50","v":"00:06:30"}]
[5,{"$f":"\"30\" & times!A49","v":"309"},"Mia Williamson","Twyford Team A",{"$f":"times!J49","v":"00:06:33"}]
["6=",{"$f":"\"30\" & times!A40","v":"301"},"Lucie Carotenuto","Elthorne Park Team A",{"$f":"times!J40","v":"00:06:42"}]
["6=",{"$f":"\"40\" & times!A45","v":"406"},"Charlotte Killick","Notting Hill Team C",{"$f":"times!K45","v":"00:06:42"},"ran in Leg 4"]
[8,{"$f":"\"30\" & times!A47","v":"307"},"Chloe Todd","Drayton Team A",{"$f":"times!J47","v":"00:06:45"}]
[9,{"$f":"\"30\" & times!A48","v":"308"},"Sarah Freegard","Drayton Team B",{"$f":"times!J48","v":"00:06:46"}]
[10,{"$f":"\"30\" & times!A41","v":"302"},"Ella Eckersley","Elthorne Park Team B",{"$f":"times!J41","v":"00:06:47"}]

{"sheet":"Leg 4","index":3,"n_rows":15,"n_cols":6,"rows_kept":15}
["Derek Hebbes Memorial Ealing Schools Relay 2015"]
["Wednesday 18th March 2015 at 2.30pm - Perivale Park"]
["GIRLS"]
["Leg 4:",null,"Results for Leg 4"]
[]
["Po.","No.","Name","Team","Time"]
[]
[1,{"$f":"\"40\" & times!A40","v":"401"},"Nicola Ravenhill","Elthorne Park Team A",{"$f":"times!K40","v":"00:05:20"}]
[2,{"$f":"\"40\" & times!A41","v":"402"},"Laura Stewart","Elthorne Park Team B",{"$f":"times!K41","v":"00:05:21"}]
[3,{"$f":"\"40\" & times!A43","v":"404"},"Megan Burns","Notting Hill Team A",{"$f":"times!K43","v":"00:06:04"}]
[4,{"$f":"\"40\" & times!A47","v":"407"},"Lauryn Godson","Drayton Team A",{"$f":"times!K47","v":"00:06:21"}]
[5,{"$f":"\"40\" & times!A48","v":"408"},"Antonia Dacosta","Drayton Team B",{"$f":"times!K48","v":"00:06:33"}]
[6,{"$f":"\"40\" & times!A44","v":"405"},"Emma Bamber","Notting Hill Team B",{"$f":"times!K44","v":"00:06:43"}]
[7,{"$f":"\"50\" & times!A45","v":"506"},"Deepa Kimaran","Notting Hill Team C",{"$f":"times!L45","v":"00:07:34"},"ran in Leg 5"]
[8,{"$f":"\"40\" & times!A42","v":"403"},"Tabitha Webster","Ellen Wilkinson Team A",{"$f":"times!K42","v":"00:07:59"}]

{"sheet":"Leg 5","index":4,"n_rows":15,"n_cols":6,"rows_kept":15}
["Derek Hebbes Memorial Ealing Schools Relay 2015"]
["Wednesday 18th March 2015 at 2.30pm - Perivale Park"]
["GIRLS"]
["Leg 5:",null,"Results for Leg 5"]
[]
["Po.","No.","Name","Team","Time"]
[]
["1=",{"$f":"\"50\" & times!A40","v":"501"},"Martha Hayward","Elthorne Park Team A",{"$f":"times!L40","v":"00:06:13"}]
["1=",{"$f":"\"50\" & times!A43","v":"504"},"Jessica Harbert","Notting Hill Team A",{"$f":"times!L43","v":"00:06:13"}]
[3,{"$f":"\"40\" & times!A49","v":"409"},"Sofia Atkins","Twyford Team A",{"$f":"times!K49","v":"00:06:17"},"ran in Leg 4"]
[4,{"$f":"\"50\" & times!A47","v":"507"},"Yelda Sakhi","Drayton Team A",{"$f":"times!L47","v":"00:06:30"}]
[5,{"$f":"\"50\" & times!A44","v":"505"},"Frankie Vale","Notting Hill Team B",{"$f":"times!L44","v":"00:06:49"}]
[6,{"$f":"\"50\" & times!A48","v":"508"},"Alice Sheean","Drayton Team B",{"$f":"times!L48","v":"00:06:56"}]
[7,{"$f":"\"50\" & times!A41","v":"502"},"Jennifer Connelly","Elthorne Park Team B",{"$f":"times!L41","v":"00:06:59"}]
[8,{"$f":"\"50\" & times!A42","v":"503"},"Arbesa Sekiraqa","Ellen Wilkinson Team A",{"$f":"times!L42","v":"00:07:02"}]

{"sheet":"Fastest times","index":5,"n_rows":55,"n_cols":5,"rows_kept":55}
["Derek Hebbes Memorial Ealing Schools Relay 2015"]
["Wednesday 18th March 2015 at 2.30pm - Perivale Park"]
["GIRLS"]
[null,null,"Fastest Times"]
[]
["Po.","No.","Name","Team","Time"]
[]
[1,{"$f":"'Leg 4'!B8","v":"401"},{"$f":"'Leg 4'!C8","v":"Nicola Ravenhill"},{"$f":"'Leg 4'!D8","v":"Elthorne Park Team A"},{"$f":"'Leg 4'!E8","v":"00:05:20"}]
[2,{"$f":"'Leg 4'!B9","v":"402"},{"$f":"'Leg 4'!C9","v":"Laura Stewart"},{"$f":"'Leg 4'!D9","v":"Elthorne Park Team B"},{"$f":"'Leg 4'!E9","v":"00:05:21"}]
[3,{"$f":"'Leg 2'!B8","v":"203"},{"$f":"'Leg 2'!C8","v":"Feia Starkey"},{"$f":"'Leg 2'!D8","v":"Ellen Wilkinson Team A"},{"$f":"'Leg 2'!E8","v":"00:05:50"}]
[4,{"$f":"'Leg 3'!B8","v":"304"},{"$f":"'Leg 3'!C8","v":"Cameron Thomas"},{"$f":"'Leg 3'!D8","v":"Notting Hill Team A"},{"$f":"'Leg 3'!E8","v":"00:05:52"}]
[5,{"$f":"'Leg 1'!B8","v":"104"},{"$f":"'Leg 1'!C8","v":"Vikki Newton"},{"$f":"'Leg 1'!D8","v":"Notting Hill Team A"},{"$f":"'Leg 1'!E8","v":"00:06:02"}]
[6,{"$f":"'Leg 4'!B10","v":"404"},{"$f":"'Leg 4'!C10","v":"Megan Burns"},{"$f":"'Leg 4'!D10","v":"Notting Hill Team A"},{"$f":"'Leg 4'!E10","v":"00:06:04"}]
[7,{"$f":"'Leg 1'!B9","v":"101"},{"$f":"'Leg 1'!C9","v":"Rhiannon Stewart"},{"$f":"'Leg 1'!D9","v":"Elthorne Park Team A"},{"$f":"'Leg 1'!E9","v":"00:06:08"}]
[8,{"$f":"'Leg 3'!B9","v":"305"},{"$f":"'Leg 3'!C9","v":"Imogen Riley"},{"$f":"'Leg 3'!D9","v":"Notting Hill Team B"},{"$f":"'Leg 3'!E9","v":"00:06:09"}]
[9,{"$f":"'Leg 3'!B10","v":"303"},{"$f":"'Leg 3'!C10","v":"Maryam Hussain"},{"$f":"'Leg 3'!D10","v":"Ellen Wilkinson Team A"},{"$f":"'Leg 3'!E10","v":"00:06:10"}]
[10,{"$f":"'Leg 2'!B9","v":"204"},{"$f":"'Leg 2'!C9","v":"Anna Mackenzie"},{"$f":"'Leg 2'!D9","v":"Notting Hill Team A"},{"$f":"'Leg 2'!E9","v":"00:06:12"}]
["11=",{"$f":"'Leg 5'!B8","v":"501"},{"$f":"'Leg 5'!C8","v":"Martha Hayward"},{"$f":"'Leg 5'!D8","v":"Elthorne Park Team A"},{"$f":"'Leg 5'!E8","v":"00:06:13"}]
["11=",{"$f":"'Leg 5'!B9","v":"504"},{"$f":"'Leg 5'!C9","v":"Jessica Harbert"},{"$f":"'Leg 5'!D9","v":"Notting Hill Team A"},{"$f":"'Leg 5'!E9","v":"00:06:13"}]
[13,{"$f":"'Leg 5'!B10","v":"409"},{"$f":"'Leg 5'!C10","v":"Sofia Atkins"},{"$f":"'Leg 5'!D10","v":"Twyford Team A"},{"$f":"'Leg 5'!E10","v":"00:06:17"}]
[14,{"$f":"'Leg 4'!B11","v":"407"},{"$f":"'Leg 4'!C11","v":"Lauryn Godson"},{"$f":"'Leg 4'!D11","v":"Drayton Team A"},{"$f":"'Leg 4'!E11","v":"00:06:21"}]
[15,{"$f":"'Leg 2'!B10","v":"206"},{"$f":"'Leg 2'!C10","v":"Rosie Cox"},{"$f":"'Leg 2'!D10","v":"Notting Hill Team C"},{"$f":"'Leg 2'!E10","v":"00:06:26"}]
["16=",{"$f":"'Leg 3'!B11","v":"310"},{"$f":"'Leg 3'!C11","v":"Leah Kelly"},{"$f":"'Leg 3'!D11","v":"Twyford Team B"},{"$f":"'Leg 3'!E11","v":"00:06:30"}]
["16=",{"$f":"'Leg 5'!B11","v":"507"},{"$f":"'Leg 5'!C11","v":"Yelda Sakhi"},{"$f":"'Leg 5'!D11","v":"Drayton Team A"},{"$f":"'Leg 5'!E11","v":"00:06:30"}]
[18,{"$f":"'Leg 2'!B11","v":"205"},{"$f":"'Leg 2'!C11","v":"Alex Michelmore"},{"$f":"'Leg 2'!D11","v":"Notting Hill Team B"},{"$f":"'Leg 2'!E11","v":"00:06:31"}]
[19,{"$f":"'Leg 2'!B12","v":"207"},{"$f":"'Leg 2'!C12","v":"Alex McKidd"},{"$f":"'Leg 2'!D12","v":"Drayton Team A"},{"$f":"'Leg 2'!E12","v":"00:06:33"}]
["20=",{"$f":"'Leg 3'!B12","v":"309"},{"$f":"'Leg 3'!C12","v":"Mia Williamson"},{"$f":"'Leg 3'!D12","v":"Twyford Team A"},{"$f":"'Leg 3'!E12","v":"00:06:33"}]
["20=",{"$f":"'Leg 4'!B12","v":"408"},{"$f":"'Leg 4'!C12","v":"Antonia Dacosta"},{"$f":"'Leg 4'!D12","v":"Drayton Team B"},{"$f":"'Leg 4'!E12","v":"00:06:33"}]
["20=",{"$f":"'Leg 2'!B13","v":"209"},{"$f":"'Leg 2'!C13","v":"Scarlet Bulatovic"},{"$f":"'Leg 2'!D13","v":"Twyford Team A"},{"$f":"'Leg 2'!E13","v":"00:06:36"}]
[23,{"$f":"'Leg 2'!B14","v":"201"},{"$f":"'Leg 2'!C14","v":"Nadia Abdi-Essa"},{"$f":"'Leg 2'!D14","v":"Elthorne Park Team A"},{"$f":"'Leg 2'!E14","v":"00:06:38"}]
[24,{"$f":"'Leg 1'!B10","v":"107"},{"$f":"'Leg 1'!C10","v":"Jodie Todd"},{"$f":"'Leg 1'!D10","v":"Drayton Team A"},{"$f":"'Leg 1'!E10","v":"00:06:41"}]
["25=",{"$f":"'Leg 2'!B15","v":"210"},{"$f":"'Leg 2'!C15","v":"Sarah Bell"},{"$f":"'Leg 2'!D15","v":"Twyford Team B"},{"$f":"'Leg 2'!E15","v":"00:06:42"}]
["25=",{"$f":"'Leg 3'!B13","v":"301"},{"$f":"'Leg 3'!C13","v":"Lucie Carotenuto"},{"$f":"'Leg 3'!D13","v":"Elthorne Park Team A"},{"$f":"'Leg 3'!E13","v":"00:06:42"}]
["25=",{"$f":"'Leg 3'!B14","v":"406"},{"$f":"'Leg 3'!C14","v":"Charlotte Killick"},{"$f":"'Leg 3'!D14","v":"Notting Hill Team C"},{"$f":"'Leg 3'!E14","v":"00:06:42"}]
[28,{"$f":"'Leg 4'!B13","v":"405"},{"$f":"'Leg 4'!C13","v":"Emma Bamber"},{"$f":"'Leg 4'!D13","v":"Notting Hill Team B"},{"$f":"'Leg 4'!E13","v":"00:06:43"}]
[29,{"$f":"'Leg 3'!B15","v":"307"},{"$f":"'Leg 3'!C15","v":"Chloe Todd"},{"$f":"'Leg 3'!D15","v":"Drayton Team A"},{"$f":"'Leg 3'!E15","v":"00:06:45"}]
["30=",{"$f":"'Leg 3'!B16","v":"308"},{"$f":"'Leg 3'!C16","v":"Sarah Freegard"},{"$f":"'Leg 3'!D16","v":"Drayton Team B"},{"$f":"'Leg 3'!E16","v":"00:06:46"}]
["30=",{"$f":"'Leg 1'!B11","v":"105"},{"$f":"'Leg 1'!C11","v":"Ella Pilkington"},{"$f":"'Leg 1'!D11","v":"Notting Hill Team B"},{"$f":"'Leg 1'!E11","v":"00:06:46"}]
[32,{"$f":"'Leg 3'!B17","v":"302"},{"$f":"'Leg 3'!C17","v":"Ella Eckersley"},{"$f":"'Leg 3'!D17","v":"Elthorne Park Team B"},{"$f":"'Leg 3'!E17","v":"00:06:47"}]
["33=",{"$f":"'Leg 2'!B16","v":"306"},{"$f":"'Leg 2'!C16","v":"Grace Fee"},{"$f":"'Leg 2'!D16","v":"Notting Hill Team C"},{"$f":"'Leg 2'!E16","v":"00:06:49"}]
["33=",{"$f":"'Leg 5'!B12","v":"505"},{"$f":"'Leg 5'!C12","v":"Frankie Vale"},{"$f":"'Leg 5'!D12","v":"Notting Hill Team B"},{"$f":"'Leg 5'!E12","v":"00:06:49"}]
[35,{"$f":"'Leg 1'!B12","v":"108"},{"$f":"'Leg 1'!C12","v":"Eman Kassem"},{"$f":"'Leg 1'!D12","v":"Drayton Team B"},{"$f":"'Leg 1'!E12","v":"00:06:55"}]
[36,{"$f":"'Leg 5'!B13","v":"508"},{"$f":"'Leg 5'!C13","v":"Alice Sheean"},{"$f":"'Leg 5'!D13","v":"Drayton Team B"},{"$f":"'Leg 5'!E13","v":"00:06:56"}]
[37,{"$f":"'Leg 1'!B13","v":"102"},{"$f":"'Leg 1'!C13","v":"Mia Dillon"},{"$f":"'Leg 1'!D13","v":"Elthorne Park Team B"},{"$f":"'Leg 1'!E13","v":"00:06:57"}]
[38,{"$f":"'Leg 1'!B14","v":"106"},{"$f":"'Leg 1'!C14","v":"Christina Cope"},{"$f":"'Leg 1'!D14","v":"Notting Hill Team C"},{"$f":"'Leg 1'!E14","v":"00:06:58"}]
[39,{"$f":"'Leg 5'!B14","v":"502"},{"$f":"'Leg 5'!C14","v":"Jennifer Connelly"},{"$f":"'Leg 5'!D14","v":"Elthorne Park Team B"},{"$f":"'Leg 5'!E14","v":"00:06:59"}]
[40,{"$f":"'Leg 5'!B15","v":"503"},{"$f":"'Leg 5'!C15","v":"Arbesa Sekiraqa"},{"$f":"'Leg 5'!D15","v":"Ellen Wilkinson Team A"},{"$f":"'Leg 5'!E15","v":"00:07:02"}]
[41,{"$f":"'Leg 2'!B17","v":"202"},{"$f":"'Leg 2'!C17","v":"Katie Fitzgerald"},{"$f":"'Leg 2'!D17","v":"Elthorne Park Team B"},{"$f":"'Leg 2'!E17","v":"00:07:16"}]
[42,{"$f":"'Leg 4'!B14","v":"506"},{"$f":"'Leg 4'!C14","v":"Deepa Kimaran"},{"$f":"'Leg 4'!D14","v":"Notting Hill Team C"},{"$f":"'Leg 4'!E14","v":"00:07:34"}]
[43,{"$f":"'Leg 1'!B15","v":"109"},{"$f":"'Leg 1'!C15","v":"Eloise Turnball"},{"$f":"'Leg 1'!D15","v":"Twyford Team A"},{"$f":"'Leg 1'!E15","v":"00:07:53"}]
[44,{"$f":"'Leg 1'!B16","v":"110"},{"$f":"'Leg 1'!C16","v":"Cara Mullins-Abudu"},{"$f":"'Leg 1'!D16","v":"Twyford Team B"},{"$f":"'Leg 1'!E16","v":"00:07:54"}]
[45,{"$f":"'Leg 4'!B15","v":"403"},{"$f":"'Leg 4'!C15","v":"Tabitha Webster"},{"$f":"'Leg 4'!D15","v":"Ellen Wilkinson Team A"},{"$f":"'Leg 4'!E15","v":"00:07:59"}]
[46,{"$f":"'Leg 2'!B18","v":"208"},{"$f":"'Leg 2'!C18","v":"Sinam McLaren"},{"$f":"'Leg 2'!D18","v":"Drayton Team B"},{"$f":"'Leg 2'!E18","v":"00:08:43"}]
[47,{"$f":"'Leg 2'!B19","v":"55"},{"$f":"'Leg 2'!C19","v":"Jenny Read"},{"$f":"'Leg 2'!D19","v":"Notting Hill Team D"},{"$f":"'Leg 2'!E19","v":"00:12:56"}]
[48,{"$f":"'Leg 1'!B17","v":"103"},{"$f":"'Leg 1'!C17","v":"Izzy Stonebridge"},{"$f":"'Leg 1'!D17","v":"Ellen Wilkinson Team A"},{"$f":"'Leg 1'!E17","v":"DNF"}]

{"sheet":"Final Results","index":6,"n_rows":86,"n_cols":7,"rows_kept":86}
["Derek Hebbes Memorial Ealing Schools Relay 2015"]
["Wednesday 18th March 2015 at 2.30pm - Perivale Park"]
["GIRLS"]
[]
["Pos.",null,"Name","Running No","Leg Time","Total time"]
[]
[1,null,"Notting Hill & Ealing Team A"]
[null,1,"Vikki Newton",104,"00:06:02","00:06:02"]
[null,2,"Anna Mackenzie",204,"00:06:12","00:12:14"]
[null,3,"Cameron Thomas",304,"00:05:52","00:18:06"]
[null,4,"Megan Burns",404,"00:06:04","00:24:10"]
[null,5,"Jessica Harbert",504,"00:06:13","00:30:23"]
[]
[2,null,"Elthorne Park Team A"]
[null,1,"Rhiannon Stewart",101,"00:06:08","00:06:08"]
[null,2,"Nadia Abdi-Essa",201,"00:06:38","00:12:46"]
[null,3,"Lucie Carotenuto",301,"00:06:42","00:19:28"]
[null,4,"Nicola Ravenhill",401,"00:05:20","00:24:48"]
[null,5,"Martha Hayward",501,"00:06:13","00:31:01"]
[]
[3,null,"Drayton Manor Team A"]
[null,1,"Jodie Todd",107,"00:06:41","00:06:41"]
[null,2,"Alex McKidd",207,"00:06:33","00:13:14"]
[null,3,"Chloe Todd",307,"00:06:45","00:19:59"]
[null,4,"Lauryn Godson",407,"00:06:21","00:26:20"]
[null,5,"Yelda Sakhi",507,"00:06:30","00:32:50"]
[]
[4,null,"Notting Hill & Ealing Team B"]
[null,1,"Ella Pilkington",105,"00:06:46","00:06:46"]
[null,2,"Alex Michelmore",205,"00:06:31","00:13:17"]
[null,3,"Imogen Riley",305,"00:06:09","00:19:26"]
[null,4,"Emma Bamber",405,"00:06:43","00:26:09"]
[null,5,"Frankie Vale",505,"00:06:49","00:32:58"]
[]
[5,null,"Elthorne Park Team B"]
[null,1,"Mia Dillon",102,"00:06:57","00:06:57"]
[null,2,"Katie Fitzgerald",202,"00:07:16","00:14:13"]
[null,3,"Ella Eckersley",302,"00:06:47","00:21:00"]
[null,4,"Laura Stewart",402,"00:05:21","00:26:21"]
[null,5,"Jennifer Connelly",502,"00:06:59","00:33:20"]
[]
[6,null,"Notting Hill & Ealing Team C"]
[null,1,"Christina Cope",106,"00:06:58","00:06:58"]
[null,2,"Rosie Cox",206,"00:06:26","00:13:24"]
[null,3,"Grace Fee",306,"00:06:49","00:20:13"]
[null,4,"Charlotte Killick",406,"00:06:42","00:26:55"]
[null,5,"Deepa Kimaran",506,"00:07:34","00:34:29"]
[]
[7,null,"Drayton Manor Team B"]
[null,1,"Eman Kassem",108,"00:06:55","00:06:55"]
[null,2,"Sinam McLaren",208,"00:08:43","00:15:38"]
[null,3,"Sarah Freegard",308,"00:06:46","00:22:24"]
[null,4,"Antonia Dacosta",408,"00:06:33","00:28:57"]
[null,5,"Alice Sheean",508,"00:06:56","00:35:53"]
[]
[]
[]
[8,null,"Ellen Wilkinson - Non scoring"]
[null,1,"Izzy Stonebridge",103,"DNF","N/A","*"]
[null,2,"Feia Starkey",203,"00:05:50","00:13:44"]
[null,3,"Maryam Hussain",303,"00:06:10","00:19:54"]
[null,4,"Tabitha Webster",403,"00:07:59","00:27:53"]
[null,5,"Arbesa Sekiraqa",503,"00:07:02","00:34:55","*"]
[]
[9,null,"Twyford Team A - Incomplete"]
[null,1,"Eloise Turnball",109,"00:07:53","00:07:53"]
[null,2,"Scarlet Bulatovic",209,"00:06:36","00:14:29"]
[null,3,"Mia Williamson",309,"00:06:33","00:21:02"]
[null,4,"Sofia Atkins",409,"00:06:17","00:27:19"]
[null,5,null,null,"","00:00:00"]
[]
[10,null,"Twyford Team B - Incomplete"]
[null,1,"Cara Mullins-Abudu",110,"00:07:54","00:07:54"]
[null,2,"Sarah Bell",210,"00:06:42","00:14:36"]
[null,3,"Leah Kelly",310,"00:06:30","00:21:06"]
[null,4,null,null,"","00:00:00"]
[null,5,null,null,"","00:00:00"]
[]
[11,null,"Notting Hill & Ealing Team D - Incomplete"]
[null,1,"Jenny Read",55,"00:12:56","00:12:56"]
[null,2,null,null,"","00:00:00"]
[null,3,null,null,"","00:00:00"]
[null,4,null,null,"","00:00:00"]
[null,5,null,null,"","00:00:00"]
[]
[null,"*","Leg 1 runner DNF - second leg runner went out with runner 210"]

{"sheet":"times","index":7,"n_rows":59,"n_cols":12,"rows_kept":59}
{"$rows_empty":38}
["TEAM","Leg 1","Leg 2","Leg 3","Leg 4","Leg 5",null,"Leg 1","Leg 2","Leg 3","Leg 4","Leg 5"]
[1,"00:06:08","00:12:46","00:19:28","00:24:48","00:31:01",null,{"$f":"IF(B40<=0,\"\",B40)","v":"00:06:08"},{"$f":"IF(C40-B40<=0,\"\",C40-B40)","v":"00:06:38"},{"$f":"IF(D40-C40<=0,\"\",D40-C40)","v":"00:06:42"},{"$f":"IF(E40-D40<=0,\"\",E40-D40)","v":"00:05:20"},{"$f":"IF(F40-E40<=0,\"\",F40-E40)","v":"00:06:13"}]
[2,"00:06:57","00:14:13","00:21:00","00:26:21","00:33:20",null,{"$f":"IF(B41<=0,\"\",B41)","v":"00:06:57"},{"$f":"IF(C41-B41<=0,\"\",C41-B41)","v":"00:07:16"},{"$f":"IF(D41-C41<=0,\"\",D41-C41)","v":"00:06:47"},{"$f":"IF(E41-D41<=0,\"\",E41-D41)","v":"00:05:21"},{"$f":"IF(F41-E41<=0,\"\",F41-E41)","v":"00:06:59"}]
[3,"00:07:54","00:13:44","00:19:54","00:27:53","00:34:55",null,"00:07:54","00:05:50","00:06:10","00:07:59","00:07:02"]
[4,"00:06:02","00:12:14","00:18:06","00:24:10","00:30:23",null,"00:06:02","00:06:12","00:05:52","00:06:04","00:06:13"]
[5,"00:06:46","00:13:17","00:19:26","00:26:09","00:32:58",null,"00:06:46","00:06:31","00:06:09","00:06:43","00:06:49"]
[6,"00:06:58","00:13:24","00:20:13","00:26:55","00:34:29",null,"00:06:58","00:06:26","00:06:49","00:06:42","00:07:34"]
[55,"00:12:56",{"$nulls":5},"00:12:56","","","",""]
[7,"00:06:41","00:13:14","00:19:59","00:26:20","00:32:50",null,"00:06:41","00:06:33","00:06:45","00:06:21","00:06:30"]
[8,"00:06:55","00:15:38","00:22:24","00:28:57","00:35:53",null,"00:06:55","00:08:43","00:06:46","00:06:33","00:06:56"]
[9,"00:07:53","00:14:29","00:21:02","00:27:19",null,null,"00:07:53","00:06:36","00:06:33","00:06:17",""]
[10,"00:07:54","00:14:36","00:21:06",{"$nulls":3},"00:07:54","00:06:42","00:06:30","",""]
[{"$nulls":7},"","","","",""]
[{"$nulls":7},"","","","",""]
[{"$nulls":7},"","","","",""]
[{"$nulls":7},"","","","",""]
[{"$nulls":7},"","","","",""]
[{"$nulls":7},"","","","",""]
[{"$nulls":7},"","","","",""]
[{"$nulls":7},"","","","",""]
[{"$nulls":7},"","","","",""]