{"text_format":"3","workbook":"xlsx","n_sheets":8,"sheets":["Leg 1","Leg 2","Leg 3","Leg 4","Leg 5","Fastest times","Final Results","times"],"not_rendered":{"macros":1},"read":"whole","date_system":"1900"}

{"sheet":"Leg 1","index":0,"n_rows":27,"n_cols":5,"rows_kept":27}
["Derek Hebbes Memorial Ealing Schools Relay 2015"]
["Wednesday 18th March at 2.30pm - Perivale Park"]
["BOYS"]
["Leg 1:",null,"Results for Leg 1"]
[]
["Po.","No.","Name","Team","Time"]
[]
[1,{"$f":"\"1\" & times!A45","v":"126"},"George Koutas","Twyford Team A",{"$f":"times!H45","v":"00:05:56"}]
[2,{"$f":"\"1\" & times!A40","v":"121"},"Joshua Humbles","Elthorne Park Team A",{"$f":"times!H40","v":"00:05:59"}]
[3,{"$f":"\"1\" & times!A46","v":"127"},"Platon Byklov","Twyford Team B",{"$f":"times!H46","v":"00:06:05"}]
[4,{"$f":"\"1\" & times!A43","v":"124"},"Saadi Cherifi","Drayton Team A",{"$f":"times!H43","v":"00:06:07"}]
[5,{"$f":"\"1\" & times!A47","v":"128"},"Miron Bykov","Twyford Team C",{"$f":"times!H47","v":"00:06:08"}]
[6,{"$f":"\"1\" & times!A44","v":"125"},"William McLaughlan","Drayton Team B",{"$f":"times!H44","v":"00:06:24"}]
[7,{"$f":"\"1\" & times!A48","v":"129"},"Ben Pink","Cardinal Wiseman Team A",{"$f":"times!H48","v":"00:06:28"}]
[8,{"$f":"\"1\" & times!A49","v":"130"},"Giovanni Addo","Cardinal Wiseman Team B",{"$f":"times!H49","v":"00:06:31"}]
[9,{"$f":"\"1\" & times!A42","v":"123"},"Abdullahi Yussuf","Belvue Team B",{"$f":"times!H42","v":"00:06:52"}]
[10,{"$f":"\"1\" & times!A41","v":"122"},"Havien Christie","Belvue Team A",{"$f":"times!H41","v":"00:07:24"}]
[{"$nulls":4},{"$f":"times!H50","v":""}]
[{"$nulls":4},{"$f":"times!H51","v":""}]
[{"$nulls":4},{"$f":"times!H52","v":""}]
[{"$nulls":4},{"$f":"times!H53","v":""}]
[{"$nulls":4},{"$f":"times!H54","v":""}]
[{"$nulls":4},{"$f":"times!H55","v":""}]
[{"$nulls":4},{"$f":"times!H56","v":""}]
[{"$nulls":4},{"$f":"times!H57","v":""}]
[{"$nulls":4},{"$f":"times!H58","v":""}]
[{"$nulls":4},{"$f":"times!H59","v":""}]

{"sheet":"Leg 2","index":1,"n_rows":28,"n_cols":6,"rows_kept":28}
["Derek Hebbes Memorial Ealing Schools Relay 2015"]
["Wednesday 18th March at 2.30pm - Perivale Park"]
["BOYS"]
["Leg 2:",null,"Results for Leg 2"]
[]
["Po.","No.","Name","Team","Time"]
[]
[1,{"$f":"\"2\" & times!A43","v":"224"},"Ilyas Iman","Drayton Team A",{"$f":"times!I43","v":"00:05:16"}]
[2,{"$f":"\"2\" & times!A48","v":"229"},"Kyle Wilson","Cardinal Wiseman Team A",{"$f":"times!I48","v":"00:05:22"}]
[3,{"$f":"\"2\" & times!A47","v":"228"},"Jack Collard","Twyford Team C",{"$f":"times!I47","v":"00:05:26"}]
[4,{"$f":"\"2\" & times!A45","v":"226"},"Jake Stokes","Twyford Team A",{"$f":"times!I45","v":"00:05:28"}]
[5,{"$f":"\"2\" & times!A49","v":"230"},"Damen Pawlak","Cardinal Wiseman Team B",{"$f":"times!I49","v":"00:05:47"}]
[6,{"$f":"\"2\" & times!A40","v":"221"},"Robbie Connelly","Elthorne Park Team A",{"$f":"times!I40","v":"00:05:53"}]
[7,{"$f":"\"2\" & times!A46","v":"227"},"Cameron Bicknall","Twyford Team B",{"$f":"times!I46","v":"00:05:55"}]
[8,{"$f":"\"3\" & times!A49","v":"330"},"Kirk Lebdiri","Cardinal Wiseman Team B",{"$f":"times!J49","v":"00:06:24"},"Ran in Leg 3"]
[9,{"$f":"\"2\" & times!A41","v":"222"},"Adrian Phillips","Belvue Team A",{"$f":"times!I41","v":"00:06:47"}]
[10,{"$f":"\"2\" & times!A44","v":"225"},"Omar Noor","Drayton Team B",{"$f":"times!I44","v":"00:06:49"}]
[11,{"$f":"\"2\" & times!A42","v":"223"},"Caviyan Liangovan","Belvue Team B",{"$f":"times!I42","v":"00:07:12"}]
[{"$nulls":4},{"$f":"times!I50","v":""}]
[{"$nulls":4},{"$f":"times!I51","v":""}]
[{"$nulls":4},{"$f":"times!H52","v":""}]
[{"$nulls":4},{"$f":"times!H53","v":""}]
[{"$nulls":4},{"$f":"times!H54","v":""}]
[{"$nulls":4},{"$f":"times!H55","v":""}]
[{"$nulls":4},{"$f":"times!H56","v":""}]
[{"$nulls":4},{"$f":"times!H57","v":""}]
[{"$nulls":4},{"$f":"times!H58","v":""}]
[{"$nulls":4},{"$f":"times!H59","v":""}]

{"sheet":"Leg 3","index":2,"n_rows":27,"n_cols":6,"rows_kept":27}
["Derek Hebbes Memorial Ealing Schools Relay 2015"]
["Wednesday 18th March at 2.30pm - Perivale Park"]
["BOYS"]
["Leg 3:",null,"Results for Leg 3"]
[]
["Po.","No.","Name","Team","Time"]
[]
[1,{"$f":"\"3\" & times!A43","v":"324"},"Maateo Vao","Drayton Team A",{"$f":"times!J43","v":"00:05:21"}]
[2,{"$f":"\"3\" & times!A48","v":"329"},"John Creaton","Cardinal Wiseman Team A",{"$f":"times!J48","v":"00:05:28"}]
["3=",{"$f":"\"3\" & times!A45","v":"326"},"Tom Bagnell","Twyford Team A",{"$f":"times!J45","v":"00:05:30"}]
["3=",{"$f":"\"3\" & times!A46","v":"327"},"Jake Moore","Twyford Team B",{"$f":"times!J46","v":"00:05:30"}]
[5,{"$f":"\"3\" & times!A40","v":"321"},"Rory Deeham","Elthorne Park Team A",{"$f":"times!J40","v":"00:05:35"}]
[6,{"$f":"\"4\" & times!A47","v":"428"},"Aaron Ajayi","Twyford Team C",{"$f":"times!K47","v":"00:05:44"},"Ran in Leg 4"]
[7,{"$f":"\"3\" & times!A41","v":"322"},"Aymen Ali","Belvue Team A",{"$f":"times!J41","v":"00:05:46"}]
[8,{"$f":"\"3\" & times!A44","v":"325"},"Freddie Scarborough","Drayton Team B",{"$f":"times!J44","v":"00:05:59"}]
[9,{"$f":"\"3\" & times!A47","v":"328"},"Ollie Hood","Twyford Team C",{"$f":"times!J47","v":"00:06:08"}]
[10,{"$f":"\"3\" & times!A42","v":"323"},"Jahma Graham","Belvue Team B",{"$f":"times!J42","v":"00:06:15"}]
[12,{"$f":"\"4\" & times!A49","v":"430"},"Alex Watts","Cardinal Wiseman Team B",{"$f":"times!K49","v":"00:06:26"},"Ran in Leg 4"]
[{"$nulls":4},{"$f":"times!J51","v":""}]
[{"$nulls":4},{"$f":"times!J52","v":""}]
[{"$nulls":4},{"$f":"times!J53","v":""}]
[{"$nulls":4},{"$f":"times!J54","v":""}]
[{"$nulls":4},{"$f":"times!J55","v":""}]
[{"$nulls":4},{"$f":"times!J56","v":""}]
[{"$nulls":4},{"$f":"times!J57","v":""}]
[{"$nulls":4},{"$f":"times!J58","v":""}]
[{"$nulls":4},{"$f":"times!J59","v":""}]

{"sheet":"Leg 4","index":3,"n_rows":26,"n_cols":6,"rows_kept":26}
["Derek Hebbes Memorial Ealing Schools Relay 2015"]
["Wednesday 18th March at 2.30pm - Perivale Park"]
["BOYS"]
["Leg 4:",null,"Results for Leg 4"]
[]
["Po.","No.","Name","Team","Time"]
[]
[1,{"$f":"\"4\" & times!A43","v":"424"},"George Kerry","Drayton Team A",{"$f":"times!K43","v":"00:04:58"}]
[2,{"$f":"\"4\" & times!A40","v":"421"},"Luke Adar","Elthorne Park Team A",{"$f":"IF(times!K40=0,\"N/A\",times!K40)","v":"00:05:11"}]
[3,{"$f":"\"4\" & times!A45","v":"426"},"Callum Lambert","Twyford Team A",{"$f":"times!K45","v":"00:05:13"}]
[4,{"$f":"\"4\" & times!A46","v":"427"},"Ramon Bailey","Twyford Team B",{"$f":"times!K46","v":"00:05:17"}]
[5,{"$f":"\"4\" & times!A48","v":"429"},"Henri Whelan","Cardinal Wiseman Team A",{"$f":"times!K48","v":"00:05:27"}]
["6=",{"$f":"\"4\" & times!A44","v":"425"},"Kacper Wysocki","Drayton Team B",{"$f":"times!K44","v":"00:05:46"}]
["6=",{"$f":"\"5\" & times!A49","v":"530"},"Steven Lally","Cardinal Wiseman Team B",{"$f":"times!L49","v":"00:05:46"},"Ran in Leg 5"]
[8,{"$f":"\"4\" & times!A42","v":"423"},"Beljinder Rai","Belvue Team B",{"$f":"times!K42","v":"00:06:00"}]
[9,{"$f":"\"4\" & times!A41","v":"422"},"Mohammed Sheik","Belvue Team A",{"$f":"times!K41","v":"00:06:37"}]
[{"$nulls":4},{"$f":"times!K50","v":""}]
[{"$nulls":4},{"$f":"times!K51","v":""}]
[{"$nulls":4},{"$f":"times!K52","v":""}]
[{"$nulls":4},{"$f":"times!K53","v":""}]
[{"$nulls":4},{"$f":"times!K54","v":""}]
[{"$nulls":4},{"$f":"times!K55","v":""}]
[{"$nulls":4},{"$f":"times!K56","v":""}]
[{"$nulls":4},{"$f":"times!K57","v":""}]
[{"$nulls":4},{"$f":"times!K58","v":""}]
[{"$nulls":4},{"$f":"times!K59","v":""}]

{"sheet":"Leg 5","index":4,"n_rows":26,"n_cols":5,"rows_kept":26}
["Derek Hebbes Memorial Ealing Schools Relay 2015"]
["Wednesday 18th March at 2.30pm - Perivale Park"]
["BOYS"]
["Leg 5:",null,"Results for Leg 5"]
[]
["Po.","No.","Name","Team","Time"]
[]
[1,{"$f":"\"5\" & times!A45","v":"526"},"Bill Kelly","Twyford Team A",{"$f":"times!L45","v":"00:05:03"}]
[2,{"$f":"\"5\" & times!A40","v":"521"},"Alex Miller","Elthorne Park Team A",{"$f":"times!L40","v":"00:05:04"}]
[3,{"$f":"\"5\" & times!A48","v":"529"},"Ben Chesters","Cardinal Wiseman Team A",{"$f":"times!L48","v":"00:05:10"}]
[4,{"$f":"\"5\" & times!A44","v":"525"},"Michael Duane Holden","Drayton Team B",{"$f":"times!L44","v":"00:05:20"}]
[5,{"$f":"\"5\" & times!A46","v":"527"},"Sam Gibb","Twyford Team B",{"$f":"times!L46","v":"00:05:25"}]
[6,{"$f":"\"5\" & times!A43","v":"524"},"Daniel Wilks","Drayton Team A",{"$f":"times!L43","v":"00:05:48"}]
[7,{"$f":"\"5\" & times!A41","v":"522"},"Anthony Morlese","Belvue Team A",{"$f":"times!L41","v":"00:05:54"}]
[8,{"$f":"\"5\" & times!A42","v":"523"},"Reeces Nolan","Belvue Team B",{"$f":"times!L42","v":"00:06:13"}]
[{"$nulls":4},{"$f":"times!L47","v":""}]
[{"$nulls":4},{"$f":"times!L50","v":""}]
[{"$nulls":4},{"$f":"times!L51","v":""}]
[{"$nulls":4},{"$f":"times!L52","v":""}]
[{"$nulls":4},{"$f":"times!L53","v":""}]
[{"$nulls":4},{"$f":"times!L54","v":""}]
[{"$nulls":4},{"$f":"times!L55","v":""}]
[{"$nulls":4},{"$f":"times!L56","v":""}]
[{"$nulls":4},{"$f":"times!L57","v":""}]
[{"$nulls":4},{"$f":"times!L58","v":""}]
[{"$nulls":4},{"$f":"times!L59","v":""}]

{"sheet":"Fastest times","index":5,"n_rows":56,"n_cols":5,"rows_kept":56}
["Derek Hebbes Memorial Ealing Schools Relay 2015"]
["Wednesday 18th March at 2.30pm - Perivale Park"]
["BOYS"]
[null,null,"Fastest Times"]
[]
["Po.","No.","Name","Team","Time"]
[]
[1,{"$f":"'Leg 4'!B8","v":"424"},{"$f":"'Leg 4'!C8","v":"George Kerry"},{"$f":"'Leg 4'!D8","v":"Drayton Team A"},{"$f":"'Leg 4'!E8","v":"00:04:58"}]
[2,{"$f":"'Leg 5'!B8","v":"526"},{"$f":"'Leg 5'!C8","v":"Bill Kelly"},{"$f":"'Leg 5'!D8","v":"Twyford Team A"},{"$f":"'Leg 5'!E8","v":"00:05:03"}]
[3,{"$f":"'Leg 5'!B9","v":"521"},{"$f":"'Leg 5'!C9","v":"Alex Miller"},{"$f":"'Leg 5'!D9","v":"Elthorne Park Team A"},{"$f":"'Leg 5'!E9","v":"00:05:04"}]
[4,{"$f":"'Leg 5'!B10","v":"529"},{"$f":"'Leg 5'!C10","v":"Ben Chesters"},{"$f":"'Leg 5'!D10","v":"Cardinal Wiseman Team A"},{"$f":"'Leg 5'!E10","v":"00:05:10"}]
[5,{"$f":"'Leg 4'!B9","v":"421"},{"$f":"'Leg 4'!C9","v":"Luke Adar"},{"$f":"'Leg 4'!D9","v":"Elthorne Park Team A"},{"$f":"'Leg 4'!E9","v":"00:05:11"}]
[6,{"$f":"'Leg 4'!B11","v":"427"},{"$f":"'Leg 4'!C10","v":"Callum Lambert"},{"$f":"'Leg 4'!D11","v":"Twyford Team B"},{"$f":"'Leg 4'!E10","v":"00:05:13"}]
[7,{"$f":"'Leg 2'!B8","v":"224"},{"$f":"'Leg 2'!C8","v":"Ilyas Iman"},{"$f":"'Leg 2'!D8","v":"Drayton Team A"},{"$f":"'Leg 2'!E8","v":"00:05:16"}]
[8,{"$f":"'Leg 4'!B10","v":"426"},{"$f":"'Leg 4'!C11","v":"Ramon Bailey"},{"$f":"'Leg 4'!D10","v":"Twyford Team A"},{"$f":"'Leg 4'!E11","v":"00:05:17"}]
[9,{"$f":"'Leg 5'!B11","v":"525"},{"$f":"'Leg 5'!C11","v":"Michael Duane Holden"},{"$f":"'Leg 5'!D11","v":"Drayton Team B"},{"$f":"'Leg 5'!E11","v":"00:05:20"}]
[10,{"$f":"'Leg 3'!B8","v":"324"},{"$f":"'Leg 3'!C8","v":"Maateo Vao"},{"$f":"'Leg 3'!D8","v":"Drayton Team A"},{"$f":"'Leg 3'!E8","v":"00:05:21"}]
[11,{"$f":"'Leg 2'!B9","v":"229"},{"$f":"'Leg 2'!C9","v":"Kyle Wilson"},{"$f":"'Leg 2'!D9","v":"Cardinal Wiseman Team A"},{"$f":"'Leg 2'!E9","v":"00:05:22"}]
[12,{"$f":"'Leg 5'!B12","v":"527"},{"$f":"'Leg 5'!C12","v":"Sam Gibb"},{"$f":"'Leg 5'!D12","v":"Twyford Team B"},{"$f":"'Leg 5'!E12","v":"00:05:25"}]
[13,{"$f":"'Leg 2'!B10","v":"228"},{"$f":"'Leg 2'!C10","v":"Jack Collard"},{"$f":"'Leg 2'!D10","v":"Twyford Team C"},{"$f":"'Leg 2'!E10","v":"00:05:26"}]
[14,{"$f":"'Leg 4'!B12","v":"429"},{"$f":"'Leg 4'!C12","v":"Henri Whelan"},{"$f":"'Leg 4'!D12","v":"Cardinal Wiseman Team A"},{"$f":"'Leg 4'!E12","v":"00:05:27"}]
["15=",{"$f":"'Leg 3'!B9","v":"329"},{"$f":"'Leg 3'!C9","v":"John Creaton"},{"$f":"'Leg 3'!D9","v":"Cardinal Wiseman Team A"},{"$f":"'Leg 3'!E9","v":"00:05:28"}]
["15=",{"$f":"'Leg 2'!B11","v":"226"},{"$f":"'Leg 2'!C11","v":"Jake Stokes"},{"$f":"'Leg 2'!D11","v":"Twyford Team A"},{"$f":"'Leg 2'!E11","v":"00:05:28"}]
["17=",{"$f":"'Leg 3'!B10","v":"326"},{"$f":"'Leg 3'!C10","v":"Tom Bagnell"},{"$f":"'Leg 3'!D10","v":"Twyford Team A"},{"$f":"'Leg 3'!E10","v":"00:05:30"}]
["17=",{"$f":"'Leg 3'!B11","v":"327"},{"$f":"'Leg 3'!C11","v":"Jake Moore"},{"$f":"'Leg 3'!D11","v":"Twyford Team B"},{"$f":"'Leg 3'!E11","v":"00:05:30"}]
[19,{"$f":"'Leg 3'!B12","v":"321"},{"$f":"'Leg 3'!C12","v":"Rory Deeham"},{"$f":"'Leg 3'!D12","v":"Elthorne Park Team A"},{"$f":"'Leg 3'!E12","v":"00:05:35"}]
[20,{"$f":"'Leg 3'!B13","v":"428"},{"$f":"'Leg 3'!C13","v":"Aaron Ajayi"},{"$f":"'Leg 3'!D13","v":"Twyford Team C"},{"$f":"'Leg 3'!E13","v":"00:05:44"}]
[21,{"$f":"'Leg 4'!B13","v":"425"},{"$f":"'Leg 4'!C13","v":"Kacper Wysocki"},{"$f":"'Leg 4'!D13","v":"Drayton Team B"},{"$f":"'Leg 4'!E13","v":"00:05:46"}]
["22=",{"$f":"'Leg 3'!B14","v":"322"},{"$f":"'Leg 3'!C14","v":"Aymen Ali"},{"$f":"'Leg 3'!D14","v":"Belvue Team A"},{"$f":"'Leg 3'!E14","v":"00:05:46"}]
["22=",{"$f":"'Leg 4'!B14","v":"530"},{"$f":"'Leg 4'!C14","v":"Steven Lally"},{"$f":"'Leg 4'!D14","v":"Cardinal Wiseman Team B"},{"$f":"'Leg 4'!E14","v":"00:05:46"}]
["22=",{"$f":"'Leg 2'!B12","v":"230"},{"$f":"'Leg 2'!C12","v":"Damen Pawlak"},{"$f":"'Leg 2'!D12","v":"Cardinal Wiseman Team B"},{"$f":"'Leg 2'!E12","v":"00:05:47"}]
[25,{"$f":"'Leg 5'!B13","v":"524"},{"$f":"'Leg 5'!C13","v":"Daniel Wilks"},{"$f":"'Leg 5'!D13","v":"Drayton Team A"},{"$f":"'Leg 5'!E13","v":"00:05:48"}]
[26,{"$f":"'Leg 2'!B13","v":"221"},{"$f":"'Leg 2'!C13","v":"Robbie Connelly"},{"$f":"'Leg 2'!D13","v":"Elthorne Park Team A"},{"$f":"'Leg 2'!E13","v":"00:05:53"}]
[27,{"$f":"'Leg 5'!B14","v":"522"},{"$f":"'Leg 5'!C14","v":"Anthony Morlese"},{"$f":"'Leg 5'!D14","v":"Belvue Team A"},{"$f":"'Leg 5'!E14","v":"00:05:54"}]
[28,{"$f":"'Leg 2'!B14","v":"227"},{"$f":"'Leg 2'!C14","v":"Cameron Bicknall"},{"$f":"'Leg 2'!D14","v":"Twyford Team B"},{"$f":"'Leg 2'!E14","v":"00:05:55"}]
[29,{"$f":"'Leg 1'!B8","v":"126"},{"$f":"'Leg 1'!C8","v":"George Koutas"},{"$f":"'Leg 1'!D8","v":"Twyford Team A"},{"$f":"'Leg 1'!E8","v":"00:05:56"}]
["30=",{"$f":"'Leg 1'!B9","v":"121"},{"$f":"'Leg 1'!C9","v":"Joshua Humbles"},{"$f":"'Leg 1'!D9","v":"Elthorne Park Team A"},{"$f":"'Leg 1'!E9","v":"00:05:59"}]
["30=",{"$f":"'Leg 3'!B15","v":"325"},{"$f":"'Leg 3'!C15","v":"Freddie Scarborough"},{"$f":"'Leg 3'!D15","v":"Drayton Team B"},{"$f":"'Leg 3'!E15","v":"00:05:59"}]
[32,{"$f":"'Leg 4'!B15","v":"423"},{"$f":"'Leg 4'!C15","v":"Beljinder Rai"},{"$f":"'Leg 4'!D15","v":"Belvue Team B"},{"$f":"'Leg 4'!E15","v":"00:06:00"}]
[33,{"$f":"'Leg 1'!B10","v":"127"},{"$f":"'Leg 1'!C10","v":"Platon Byklov"},{"$f":"'Leg 1'!D10","v":"Twyford Team B"},{"$f":"'Leg 1'!E10","v":"00:06:05"}]
[34,{"$f":"'Leg 1'!B11","v":"124"},{"$f":"'Leg 1'!C11","v":"Saadi Cherifi"},{"$f":"'Leg 1'!D11","v":"Drayton Team A"},{"$f":"'Leg 1'!E11","v":"00:06:07"}]
["35=",{"$f":"'Leg 1'!B12","v":"128"},{"$f":"'Leg 1'!C12","v":"Miron Bykov"},{"$f":"'Leg 1'!D12","v":"Twyford Team C"},{"$f":"'Leg 1'!E12","v":"00:06:08"}]
["35=",{"$f":"'Leg 3'!B16","v":"328"},{"$f":"'Leg 3'!C16","v":"Ollie Hood"},{"$f":"'Leg 3'!D16","v":"Twyford Team C"},{"$f":"'Leg 3'!E16","v":"00:06:08"}]
[37,{"$f":"'Leg 5'!B15","v":"523"},{"$f":"'Leg 5'!C15","v":"Reeces Nolan"},{"$f":"'Leg 5'!D15","v":"Belvue Team B"},{"$f":"'Leg 5'!E15","v":"00:06:13"}]
[38,{"$f":"'Leg 3'!B17","v":"323"},{"$f":"'Leg 3'!C17","v":"Jahma Graham"},{"$f":"'Leg 3'!D17","v":"Belvue Team B"},{"$f":"'Leg 3'!E17","v":"00:06:15"}]
["39=",{"$f":"'Leg 2'!B15","v":"330"},{"$f":"'Leg 2'!C15","v":"Kirk Lebdiri"},{"$f":"'Leg 2'!D15","v":"Cardinal Wiseman Team B"},{"$f":"'Leg 2'!E15","v":"00:06:24"}]
["39=",{"$f":"'Leg 1'!B13","v":"125"},{"$f":"'Leg 1'!C13","v":"William McLaughlan"},{"$f":"'Leg 1'!D13","v":"Drayton Team B"},{"$f":"'Leg 1'!E13","v":"00:06:24"}]
[41,{"$f":"'Leg 3'!B18","v":"430"},{"$f":"'Leg 3'!C18","v":"Alex Watts"},{"$f":"'Leg 3'!D18","v":"Cardinal Wiseman Team B"},{"$f":"'Leg 3'!E18","v":"00:06:26"}]
[42,{"$f":"'Leg 1'!B14","v":"129"},{"$f":"'Leg 1'!C14","v":"Ben Pink"},{"$f":"'Leg 1'!D14","v":"Cardinal Wiseman Team A"},{"$f":"'Leg 1'!E14","v":"00:06:28"}]
[43,{"$f":"'Leg 1'!B15","v":"130"},{"$f":"'Leg 1'!C15","v":"Giovanni Addo"},{"$f":"'Leg 1'!D15","v":"Cardinal Wiseman Team B"},{"$f":"'Leg 1'!E15","v":"00:06:31"}]
[44,{"$f":"'Leg 4'!B16","v":"422"},{"$f":"'Leg 4'!C16","v":"Mohammed Sheik"},{"$f":"'Leg 4'!D16","v":"Belvue Team A"},{"$f":"'Leg 4'!E16","v":"00:06:37"}]
[45,{"$f":"'Leg 2'!B16","v":"222"},{"$f":"'Leg 2'!C16","v":"Adrian Phillips"},{"$f":"'Leg 2'!D16","v":"Belvue Team A"},{"$f":"'Leg 2'!E16","v":"00:06:47"}]
[46,{"$f":"'Leg 2'!B17","v":"225"},{"$f":"'Leg 2'!C17","v":"Omar Noor"},{"$f":"'Leg 2'!D17","v":"Drayton Team B"},{"$f":"'Leg 2'!E17","v":"00:06:49"}]
[47,{"$f":"'Leg 1'!B16","v":"123"},{"$f":"'Leg 1'!C16","v":"Abdullahi Yussuf"},{"$f":"'Leg 1'!D16","v":"Belvue Team B"},{"$f":"'Leg 1'!E16","v":"00:06:52"}]
[48,{"$f":"'Leg 2'!B18","v":"223"},{"$f":"'Leg 2'!C18","v":"Caviyan Liangovan"},{"$f":"'Leg 2'!D18","v":"Belvue Team B"},{"$f":"'Leg 2'!E18","v":"00:07:12"}]
[49,{"$f":"'Leg 1'!B17","v":"122"},{"$f":"'Leg 1'!C17","v":"Havien Christie"},{"$f":"'Leg 1'!D17","v":"Belvue Team A"},{"$f":"'Leg 1'!E17","v":"00:07:24"}]

{"sheet":"Final Results","index":6,"n_rows":75,"n_cols":8,"rows_kept":75}
["Derek Hebbes Memorial Ealing Schools Relay 2015"]
["Wednesday 18th March at 2.30pm - Perivale Park"]
["BOYS"]
[]
["Pos.",null,"Name",null,"Leg Time","Total time"]
[]
[1,null,"Twyford Team A"]
[null,1,"George Koutas",126,"00:05:56","00:05:56",null,1]
[null,2,"Jake Stokes",226,"00:05:28","00:11:24",null,2]
[null,3,"Tom Bagnell",326,"00:05:30","00:16:54",null,2]
[null,4,"Callum Lambert",426,"00:05:13","00:22:07",null,2]
[null,5,"Bill Kelly",526,"00:05:03","00:27:10"]
[]
[2,null,"Drayton Team A"]
[null,1,"Saadi Cherifi",124,"00:06:07","00:06:07",null,2]
[null,2,"Ilyas Iman",224,"00:05:16","00:11:23",null,1]
[null,3,"Maateo Vao",324,"00:05:21","00:16:44",null,1]
[null,4,"George Kerry",424,"00:04:58","00:21:42",null,1]
[null,5,"Daniel Wilks",524,"00:05:48","00:27:30"]
[]
[3,null,"Elthorne Park Team A"]
[null,1,"Joshua Humbles",121,"00:05:59","00:05:59"]
[null,2,"Robbie Connelly",221,"00:05:53","00:11:52",null,4]
[null,3,"Rory Deeham",321,"00:05:35","00:17:27",null,4]
[null,4,"Luke Adar",421,"00:05:11","00:22:38",null,3]
[null,5,"Alex Miller",521,"00:05:04","00:27:42"]
[]
[4,null,"Cardinal Wiseman Team A"]
[null,1,"Ben Pink",129,"00:06:28","00:06:28"]
[null,2,"Kyle Wilson",229,"00:05:22","00:11:50",null,3]
[null,3,"John Creaton",329,"00:05:28","00:17:18",null,3]
[null,4,"Henri Whelan",429,"00:05:27","00:22:45",null,4]
[null,5,"Ben Chesters",529,"00:05:10","00:27:55"]
[]
[5,null,"Twyford Team B"]
[null,1,"Platon Byklov",127,"00:06:05","00:06:05"]
[null,2,"Cameron Bicknall",227,"00:05:55","00:12:00"]
[null,3,"Jake Moore",327,"00:05:30","00:17:30",null,5]
[null,4,"Ramon Bailey",427,"00:05:17","00:22:47"]
[null,5,"Sam Gibb",527,"00:05:25","00:28:12"]
[]
[6,null,"Drayton Team B"]
[null,1,"William McLaughlan",125,"00:06:24","00:06:24"]
[null,2,"Omar Noor",225,"00:06:49","00:13:13"]
[null,3,"Freddie Scarborough",325,"00:05:59","00:19:12"]
[null,4,"Kacper Wysocki",425,"00:05:46","00:24:58"]
[null,5,"Michael Duane Holden",525,"00:05:20","00:30:18"]
[]
[7,null,"Cardinal Wiseman Team B"]
[null,1,"Giovanni Addo",130,"00:06:31","00:06:31"]
[null,2,"Damen Pawlak",230,"00:05:47","00:12:18"]
[null,3,"Kirk Lebdiri",330,"00:06:24","00:18:42"]
[null,4,"Alex Watts",430,"00:06:26","00:25:08"]
[null,5,"Steven Lally",530,"00:05:46","00:30:54"]
[]
[8,null,"Belvue Team A"]
[null,1,"Havien Christie",122,"00:07:24","00:07:24"]
[null,2,"Adrian Phillips",222,"00:06:47","00:14:11"]
[null,3,"Aymen Ali",322,"00:05:46","00:19:57"]
[null,4,"Mohammed Sheik",422,"00:06:37","00:26:34"]
[null,5,"Anthony Morlese",522,"00:05:54","00:32:28"]
[]
[9,null,"Belvue Team B"]
[null,1,"Abdullahi Yussuf",123,"00:06:52","00:06:52"]
[null,2,"Caviyan Liangovan",223,"00:07:12","00:14:04"]
[null,3,"Jahma Graham",323,"00:06:15","00:20:19"]
[null,4,"Beljinder Rai",423,"00:06:00","00:26:19"]
[null,5,"Reeces Nolan",523,"00:06:13","00:32:32"]
[]
[10,null,"Twyford Team C - Incomplete"]
[null,1,"Miron Bykov",128,"00:06:08","00:06:08"]
[null,2,"Jack Collard",228,"00:05:26","00:11:34"]
[null,3,"Ollie Hood",328,"00:06:08","00:17:42"]
[null,4,"Aaron Ajayi",428,"00:05:44","00:23:26"]
[null,5,null,null,"","00:00:00"]

{"sheet":"times","index":7,"n_rows":59,"n_cols":12,"rows_kept":59}
{"$rows_empty":38}
["TEAM","Leg 1","Leg 2","Leg 3","Leg 4","Leg 5",null,"Leg 1","Leg 2","Leg 3","Leg 4","Leg 5"]
[21,"00:05:59","00:11:52","00:17:27","00:22:38","00:27:42",null,{"$f":"IF(B40<=0,\"\",B40)","v":"00:05:59"},{"$f":"IF(C40-B40<=0,\"\",C40-B40)","v":"00:05:53"},{"$f":"IF(D40-C40<=0,\"\",D40-C40)","v":"00:05:35"},"00:05:11","00:05:04"]
[22,"00:07:24","00:14:11","00:19:57","00:26:34","00:32:28",null,{"$f":"IF(B41<=0,\"\",B41)","v":"00:07:24"},{"$f":"IF(C41-B41<=0,\"\",C41-B41)","v":"00:06:47"},{"$f":"IF(D41-C41<=0,\"\",D41-C41)","v":"00:05:46"},{"$f":"IF(E41-D41<=0,\"\",E41-D41)","v":"00:06:37"},{"$f":"IF(F41-E41<=0,\"\",F41-E41)","v":"00:05:54"}]
[23,"00:06:52","00:14:04","00:20:19","00:26:19","00:32:32",null,"00:06:52","00:07:12","00:06:15","00:06:00","00:06:13"]
[24,"00:06:07","00:11:23","00:16:44","00:21:42","00:27:30",null,"00:06:07","00:05:16","00:05:21","00:04:58","00:05:48"]
[25,"00:06:24","00:13:13","00:19:12","00:24:58","00:30:18",null,"00:06:24","00:06:49","00:05:59",{"$f":"IF(E44-D44<=0,\"\",E44-D44)","v":"00:05:46"},{"$f":"IF(F44-E44<=0,\"\",F44-E44)","v":"00:05:20"}]
[26,"00:05:56","00:11:24","00:16:54","00:22:07","00:27:10",null,"00:05:56","00:05:28","00:05:30","00:05:13","00:05:03"]
[27,"00:06:05","00:12:00","00:17:30","00:22:47","00:28:12",null,"00:06:05","00:05:55","00:05:30","00:05:17","00:05:25"]
[28,"00:06:08","00:11:34","00:17:42","00:23:26",null,null,"00:06:08","00:05:26","00:06:08","00:05:44",""]
[29,"00:06:28","00:11:50","00:17:18","00:22:45","00:27:55",null,"00:06:28","00:05:22","00:05:28","00:05:27","00:05:10"]
[30,"00:06:31","00:12:18","00:18:42","00:25:08","00:30:54",null,"00:06:31","00:05:47","00:06:24","00:06:26","00:05:46"]
[{"$nulls":7},"","","","",""]
[{"$nulls":7},"","","","",""]
[{"$nulls":7},"","","","",""]
[{"$nulls":7},"","","","",""]
[{"$nulls":7},"","","","",""]
[{"$nulls":7},"","","","",""]
[{"$nulls":7},"","","","",""]
[{"$nulls":7},"","","","",""]
[{"$nulls":7},"","","","",""]
[{"$nulls":7},"","","","",""]